BEGIN:VCALENDAR
VERSION:2.0
PRODID:-//NCRLA - ECPv6.15.15//NONSGML v1.0//EN
CALSCALE:GREGORIAN
METHOD:PUBLISH
X-WR-CALNAME:NCRLA
X-ORIGINAL-URL:https://www.ncrla.org
X-WR-CALDESC:Events for NCRLA
REFRESH-INTERVAL;VALUE=DURATION:PT1H
X-Robots-Tag:noindex
X-PUBLISHED-TTL:PT1H
BEGIN:VTIMEZONE
TZID:America/New_York
BEGIN:DAYLIGHT
TZOFFSETFROM:-0500
TZOFFSETTO:-0400
TZNAME:EDT
DTSTART:20190310T070000
END:DAYLIGHT
BEGIN:STANDARD
TZOFFSETFROM:-0400
TZOFFSETTO:-0500
TZNAME:EST
DTSTART:20191103T060000
END:STANDARD
BEGIN:DAYLIGHT
TZOFFSETFROM:-0500
TZOFFSETTO:-0400
TZNAME:EDT
DTSTART:20200308T070000
END:DAYLIGHT
BEGIN:STANDARD
TZOFFSETFROM:-0400
TZOFFSETTO:-0500
TZNAME:EST
DTSTART:20201101T060000
END:STANDARD
BEGIN:DAYLIGHT
TZOFFSETFROM:-0500
TZOFFSETTO:-0400
TZNAME:EDT
DTSTART:20210314T070000
END:DAYLIGHT
BEGIN:STANDARD
TZOFFSETFROM:-0400
TZOFFSETTO:-0500
TZNAME:EST
DTSTART:20211107T060000
END:STANDARD
END:VTIMEZONE
BEGIN:VEVENT
DTSTART;TZID=America/New_York:20200309T170000
DTEND;TZID=America/New_York:20200309T190000
DTSTAMP:20260423T143121
CREATED:20200124T185440Z
LAST-MODIFIED:20200206T153749Z
UID:16372-1583773200-1583780400@www.ncrla.org
SUMMARY:Raise the Roof PAC Fundraiser
DESCRIPTION:Join us for an exciting event at Fahrenheit rooftop restaurant and bar in  Charlotte and help raise money for the NCRLA PAC. This election year will be crucial to support industry champions of both parties. Mix and mingle with elected officials from the state and local levels while enjoying one of the best views in Charlotte! \n Purchase tickets\n**NOTE: North Carolina law requires that all PAC donations\, including the purchase of tickets to this event or items won through the PAC Silent Auction\, must be paid for with a personal credit card. No corporate payment is allowed.  We are also required to report the name\, mailing address\, employer and job title of any individual that contributes more than $50 to the NRA or NCRLA PACs in any election cycle. Please complete the registration form in full.**
URL:https://www.ncrla.org/event/charlotte-pac-event/
LOCATION:Fahrenheit\, 222 S Caldwell Street\, Charlotte\, NC\, 28202\, United States
CATEGORIES:NCRLA Events,NCRLA PAC Events
GEO:35.222547;-80.8410225
X-APPLE-STRUCTURED-LOCATION;VALUE=URI;X-ADDRESS=Fahrenheit 222 S Caldwell Street Charlotte NC 28202 United States;X-APPLE-RADIUS=500;X-TITLE=222 S Caldwell Street:geo:-80.8410225,35.222547
END:VEVENT
BEGIN:VEVENT
DTSTART;TZID=America/New_York:20200309T153000
DTEND;TZID=America/New_York:20200309T170000
DTSTAMP:20260423T143121
CREATED:20191219T170438Z
LAST-MODIFIED:20200217T165212Z
UID:16292-1583767800-1583773200@www.ncrla.org
SUMMARY:Charlotte Chapter Meeting
DESCRIPTION:NCRLA’s director of government affairs Isabel Villa-Garcia will present a timely policy\, political\, and election update following Super Tuesday and NC’s primary. Immediately following the meeting\, please join us for our NCRLA Raise the Roof PAC fundraiser to help elect candidates who support policy that helps your business and the hospitality industry. The chapter meeting is free to NCRLA members. Registration is required. \nRegister here  \n 
URL:https://www.ncrla.org/event/charlotte-chapter-meeting-7/
LOCATION:Fahrenheit\, 222 S Caldwell Street\, Charlotte\, NC\, 28202\, United States
CATEGORIES:Chapter Meeting,NCRLA Events
GEO:35.222547;-80.8410225
X-APPLE-STRUCTURED-LOCATION;VALUE=URI;X-ADDRESS=Fahrenheit 222 S Caldwell Street Charlotte NC 28202 United States;X-APPLE-RADIUS=500;X-TITLE=222 S Caldwell Street:geo:-80.8410225,35.222547
END:VEVENT
END:VCALENDAR