BEGIN:VCALENDAR
VERSION:2.0
PRODID:-//NCRLA - ECPv6.15.15//NONSGML v1.0//EN
CALSCALE:GREGORIAN
METHOD:PUBLISH
X-ORIGINAL-URL:https://www.ncrla.org
X-WR-CALDESC:Events for NCRLA
REFRESH-INTERVAL;VALUE=DURATION:PT1H
X-Robots-Tag:noindex
X-PUBLISHED-TTL:PT1H
BEGIN:VTIMEZONE
TZID:America/New_York
BEGIN:DAYLIGHT
TZOFFSETFROM:-0500
TZOFFSETTO:-0400
TZNAME:EDT
DTSTART:20200308T070000
END:DAYLIGHT
BEGIN:STANDARD
TZOFFSETFROM:-0400
TZOFFSETTO:-0500
TZNAME:EST
DTSTART:20201101T060000
END:STANDARD
BEGIN:DAYLIGHT
TZOFFSETFROM:-0500
TZOFFSETTO:-0400
TZNAME:EDT
DTSTART:20210314T070000
END:DAYLIGHT
BEGIN:STANDARD
TZOFFSETFROM:-0400
TZOFFSETTO:-0500
TZNAME:EST
DTSTART:20211107T060000
END:STANDARD
BEGIN:DAYLIGHT
TZOFFSETFROM:-0500
TZOFFSETTO:-0400
TZNAME:EDT
DTSTART:20220313T070000
END:DAYLIGHT
BEGIN:STANDARD
TZOFFSETFROM:-0400
TZOFFSETTO:-0500
TZNAME:EST
DTSTART:20221106T060000
END:STANDARD
END:VTIMEZONE
BEGIN:VEVENT
DTSTART;TZID=America/New_York:20210712T140000
DTEND;TZID=America/New_York:20210712T150000
DTSTAMP:20260421T115022
CREATED:20201215T184101Z
LAST-MODIFIED:20201215T184101Z
UID:17426-1626098400-1626102000@www.ncrla.org
SUMMARY:Pitt Independent Eateries Chapter Meeting
DESCRIPTION:
URL:https://www.ncrla.org/event/pitt-independent-eateries-chapter-meeting-15/
LOCATION:DAP House\, 703 Dickinson Ave\, Greenville\, NC\, 27834
CATEGORIES:Chapter Meeting,NCRLA Events
GEO:35.6093496;-77.3761404
X-APPLE-STRUCTURED-LOCATION;VALUE=URI;X-ADDRESS=DAP House 703 Dickinson Ave Greenville NC 27834;X-APPLE-RADIUS=500;X-TITLE=703 Dickinson Ave:geo:-77.3761404,35.6093496
END:VEVENT
BEGIN:VEVENT
DTSTART;TZID=America/New_York:20210614T140000
DTEND;TZID=America/New_York:20210614T150000
DTSTAMP:20260421T115022
CREATED:20201215T184018Z
LAST-MODIFIED:20201215T184018Z
UID:17424-1623679200-1623682800@www.ncrla.org
SUMMARY:Pitt Independent Eateries Chapter Meeting
DESCRIPTION:
URL:https://www.ncrla.org/event/pitt-independent-eateries-chapter-meeting-14/
LOCATION:DAP House\, 703 Dickinson Ave\, Greenville\, NC\, 27834
CATEGORIES:Chapter Meeting,NCRLA Events
GEO:35.6093496;-77.3761404
X-APPLE-STRUCTURED-LOCATION;VALUE=URI;X-ADDRESS=DAP House 703 Dickinson Ave Greenville NC 27834;X-APPLE-RADIUS=500;X-TITLE=703 Dickinson Ave:geo:-77.3761404,35.6093496
END:VEVENT
BEGIN:VEVENT
DTSTART;TZID=America/New_York:20210510T140000
DTEND;TZID=America/New_York:20210510T150000
DTSTAMP:20260421T115022
CREATED:20201215T183927Z
LAST-MODIFIED:20201215T183927Z
UID:17422-1620655200-1620658800@www.ncrla.org
SUMMARY:Pitt Independent Eateries Chapter Meeting
DESCRIPTION:
URL:https://www.ncrla.org/event/pitt-independent-eateries-chapter-meeting-13/
LOCATION:DAP House\, 703 Dickinson Ave\, Greenville\, NC\, 27834
CATEGORIES:Chapter Meeting,NCRLA Events
GEO:35.6093496;-77.3761404
X-APPLE-STRUCTURED-LOCATION;VALUE=URI;X-ADDRESS=DAP House 703 Dickinson Ave Greenville NC 27834;X-APPLE-RADIUS=500;X-TITLE=703 Dickinson Ave:geo:-77.3761404,35.6093496
END:VEVENT
BEGIN:VEVENT
DTSTART;TZID=America/New_York:20210412T140000
DTEND;TZID=America/New_York:20210412T150000
DTSTAMP:20260421T115022
CREATED:20201215T183852Z
LAST-MODIFIED:20201215T183852Z
UID:17420-1618236000-1618239600@www.ncrla.org
SUMMARY:Pitt Independent Eateries Chapter Meeting
DESCRIPTION:
URL:https://www.ncrla.org/event/pitt-independent-eateries-chapter-meeting-12/
LOCATION:DAP House\, 703 Dickinson Ave\, Greenville\, NC\, 27834
CATEGORIES:Chapter Meeting,NCRLA Events
GEO:35.6093496;-77.3761404
X-APPLE-STRUCTURED-LOCATION;VALUE=URI;X-ADDRESS=DAP House 703 Dickinson Ave Greenville NC 27834;X-APPLE-RADIUS=500;X-TITLE=703 Dickinson Ave:geo:-77.3761404,35.6093496
END:VEVENT
BEGIN:VEVENT
DTSTART;TZID=America/New_York:20210308T140000
DTEND;TZID=America/New_York:20210308T150000
DTSTAMP:20260421T115022
CREATED:20201215T183810Z
LAST-MODIFIED:20201215T183810Z
UID:17418-1615212000-1615215600@www.ncrla.org
SUMMARY:Pitt Independent Eateries Chapter Meeting
DESCRIPTION:
URL:https://www.ncrla.org/event/pitt-independent-eateries-chapter-meeting-11/
LOCATION:DAP House\, 703 Dickinson Ave\, Greenville\, NC\, 27834
CATEGORIES:Chapter Meeting,NCRLA Events
GEO:35.6093496;-77.3761404
X-APPLE-STRUCTURED-LOCATION;VALUE=URI;X-ADDRESS=DAP House 703 Dickinson Ave Greenville NC 27834;X-APPLE-RADIUS=500;X-TITLE=703 Dickinson Ave:geo:-77.3761404,35.6093496
END:VEVENT
BEGIN:VEVENT
DTSTART;TZID=America/New_York:20210208T140000
DTEND;TZID=America/New_York:20210208T150000
DTSTAMP:20260421T115022
CREATED:20201215T183737Z
LAST-MODIFIED:20201215T183737Z
UID:17416-1612792800-1612796400@www.ncrla.org
SUMMARY:Pitt Independent Eateries Chapter Meeting
DESCRIPTION:
URL:https://www.ncrla.org/event/pitt-independent-eateries-chapter-meeting-10/
LOCATION:DAP House\, 703 Dickinson Ave\, Greenville\, NC\, 27834
CATEGORIES:Chapter Meeting,NCRLA Events
GEO:35.6093496;-77.3761404
X-APPLE-STRUCTURED-LOCATION;VALUE=URI;X-ADDRESS=DAP House 703 Dickinson Ave Greenville NC 27834;X-APPLE-RADIUS=500;X-TITLE=703 Dickinson Ave:geo:-77.3761404,35.6093496
END:VEVENT
BEGIN:VEVENT
DTSTART;TZID=America/New_York:20210111T140000
DTEND;TZID=America/New_York:20210111T150000
DTSTAMP:20260421T115022
CREATED:20201215T183659Z
LAST-MODIFIED:20201215T183659Z
UID:17412-1610373600-1610377200@www.ncrla.org
SUMMARY:Pitt Independent Eateries Chapter Meeting
DESCRIPTION:
URL:https://www.ncrla.org/event/pitt-independent-eateries-chapter-meeting-9/
LOCATION:DAP House\, 703 Dickinson Ave\, Greenville\, NC\, 27834
CATEGORIES:Chapter Meeting,NCRLA Events
GEO:35.6093496;-77.3761404
X-APPLE-STRUCTURED-LOCATION;VALUE=URI;X-ADDRESS=DAP House 703 Dickinson Ave Greenville NC 27834;X-APPLE-RADIUS=500;X-TITLE=703 Dickinson Ave:geo:-77.3761404,35.6093496
END:VEVENT
END:VCALENDAR