BEGIN:VCALENDAR
VERSION:2.0
PRODID:-//NCRLA - ECPv6.15.15//NONSGML v1.0//EN
CALSCALE:GREGORIAN
METHOD:PUBLISH
X-WR-CALNAME:NCRLA
X-ORIGINAL-URL:https://www.ncrla.org
X-WR-CALDESC:Events for NCRLA
REFRESH-INTERVAL;VALUE=DURATION:PT1H
X-Robots-Tag:noindex
X-PUBLISHED-TTL:PT1H
BEGIN:VTIMEZONE
TZID:America/New_York
BEGIN:DAYLIGHT
TZOFFSETFROM:-0500
TZOFFSETTO:-0400
TZNAME:EDT
DTSTART:20250309T070000
END:DAYLIGHT
BEGIN:STANDARD
TZOFFSETFROM:-0400
TZOFFSETTO:-0500
TZNAME:EST
DTSTART:20251102T060000
END:STANDARD
BEGIN:DAYLIGHT
TZOFFSETFROM:-0500
TZOFFSETTO:-0400
TZNAME:EDT
DTSTART:20260308T070000
END:DAYLIGHT
BEGIN:STANDARD
TZOFFSETFROM:-0400
TZOFFSETTO:-0500
TZNAME:EST
DTSTART:20261101T060000
END:STANDARD
BEGIN:DAYLIGHT
TZOFFSETFROM:-0500
TZOFFSETTO:-0400
TZNAME:EDT
DTSTART:20270314T070000
END:DAYLIGHT
BEGIN:STANDARD
TZOFFSETFROM:-0400
TZOFFSETTO:-0500
TZNAME:EST
DTSTART:20271107T060000
END:STANDARD
END:VTIMEZONE
BEGIN:VEVENT
DTSTART;TZID=America/New_York:20260225T150000
DTEND;TZID=America/New_York:20260225T170000
DTSTAMP:20260422T074327
CREATED:20260205T153411Z
LAST-MODIFIED:20260206T204529Z
UID:35533-1772031600-1772038800@www.ncrla.org
SUMMARY:Hospitality Summit Series: Greensboro Edition
DESCRIPTION:The NCRLA Hospitality Summit Series: Greensboro Edition marks the launch of a new statewide\, regionally focused engagement platform designed to connect restaurant and lodging leaders with the insights\, resources\, and relationships that matter most to their businesses. \nThis in-person summit will feature a moderated fireside chat with Sen. Phil Berger\, offering attendees a valuable opportunity to hear directly from one of North Carolina’s most influential state leaders on the issues shaping the hospitality industry. Discussion topics will include workforce development\, rising operating costs\, tourism\, and the role of state policy in supporting hospitality businesses across both urban and rural communities. \nFollowing the fireside conversation\, NCRLA leadership will provide updates on legislative priorities\, industry economic trends and forecasts\, upcoming events\, and additional member benefits and resources. The program will conclude with a networking reception\, allowing attendees to connect with peers\, partners\, and the NCRLA team. \nDesigned for both current members and prospective members\, the Greensboro summit delivers practical insights\, meaningful dialogue\, and direct access to industry and policy leaders—reinforcing NCRLA’s commitment to supporting hospitality businesses throughout the Triad and across North Carolina.
URL:https://www.ncrla.org/event/hospitality-summit-series-greensboro-edition/
LOCATION:Grandover Resort\, 1000 Club Road\, Greensboro\, NC\, 27407\, United States
CATEGORIES:Chapter Meeting,NCRLA Events
ATTACH;FMTTYPE=image/png:https://www.ncrla.org/wp-content/uploads/2026/02/NoviHeader_Greensboro.png
ORGANIZER;CN="North Carolina Restaurant and Lodging Association":MAILTO:info@ncrla.org
END:VEVENT
BEGIN:VEVENT
DTSTART;TZID=America/New_York:20260409T150000
DTEND;TZID=America/New_York:20260409T170000
DTSTAMP:20260422T074327
CREATED:20260311T193012Z
LAST-MODIFIED:20260311T193320Z
UID:35977-1775746800-1775754000@www.ncrla.org
SUMMARY:Hospitality Summit Series: Charlotte Edition
DESCRIPTION:NCRLA will host the Charlotte edition of the Hospitality Summit Series on April 9 from 3–5 p.m. at the Renaissance Charlotte SouthPark Hotel. The event will bring together restaurant and lodging leaders\, industry partners and community stakeholders to discuss the trends\, economic outlook and policy issues shaping North Carolina hospitality. \nThe program will feature a fireside chat with Tim Moore\, former Speaker of the North Carolina House of Representatives\, moderated by Allen Thomas. \nAttendees will also hear industry insights from Chad Moutray\, who will share national restaurant industry trends and economic forecasts. Himanshu Desai will also be a featured speaker\, offering insights on lodging performance\, travel trends and the broader hospitality landscape from Amadeus. \nThe program will conclude with a networking reception\, providing time for hospitality professionals to connect with peers and industry partners. \nThe Hospitality Summit Series creates a regional forum for restaurant and lodging leaders to stay informed on policy developments\, economic trends and industry insights while strengthening connections across North Carolina’s hospitality community. \nRegister now to reserve your seat.  \nREGISTER NOW
URL:https://www.ncrla.org/event/hospitality-summit-series-charlotte-edition/
LOCATION:Renaissance Charlotte SouthPark Hotel\, 5501 Carnegie Blvd\, Charlotte\, NC\, 28209\, United States
CATEGORIES:Chapter Meeting,NCRLA Events
ATTACH;FMTTYPE=image/png:https://www.ncrla.org/wp-content/uploads/2026/03/charlotte-summit-header-2.png
ORGANIZER;CN="North Carolina Restaurant and Lodging Association":MAILTO:info@ncrla.org
END:VEVENT
BEGIN:VEVENT
DTSTART;TZID=America/New_York:20260612T090000
DTEND;TZID=America/New_York:20260612T120000
DTSTAMP:20260422T074327
CREATED:20260325T153713Z
LAST-MODIFIED:20260325T153713Z
UID:36377-1781254800-1781265600@www.ncrla.org
SUMMARY:Hospitality Summit Series: Asheville Edition
DESCRIPTION:Join NCRLA for the Asheville edition of the NCRLA Hospitality Summit Series\, a regional gathering designed to connect restaurant and lodging leaders with policymakers and timely industry insights. As the third event in this new statewide series\, the Asheville Summit will bring together hospitality professionals\, industry partners and community leaders for meaningful conversation on the trends\, economic outlook and policy issues shaping North Carolina’s hospitality industry. \nThe summit will take place on Friday\, June 12 from 9 a.m. to 12 p.m. at the Hilton Asheville Biltmore Park. The program will feature a conversation between Rosanna Maietta\, President & CEO of the American Hotel & Lodging Association\, and NCRLA President & CEO Allen Thomas. Together\, they will explore key issues impacting lodging establishments across North Carolina and the nation\, including industry performance\, workforce challenges and the evolving economic landscape. \nRosanna Maietta brings extensive experience in hospitality leadership and communications\, having previously served as AHLA’s executive vice president of communications & public relations and president & CEO of its Foundation.  \nThe program will include a moderated discussion followed by time for networking\, providing attendees the opportunity to connect with peers and industry leaders. The NCRLA Hospitality Summit Series creates a forum for meaningful dialogue\, industry updates and relationship-building that strengthens North Carolina’s restaurant and lodging community.
URL:https://www.ncrla.org/event/hospitality-summit-series-asheville-edition/
LOCATION:Hilton Asheville Biltmore Park\, 43 Town Square Blvd\, Asheville\, NC\, 28803\, United States
CATEGORIES:Chapter Meeting,NCRLA Events
ORGANIZER;CN="North Carolina Restaurant and Lodging Association":MAILTO:info@ncrla.org
END:VEVENT
END:VCALENDAR